BEGIN:VCALENDAR
VERSION:2.0
PRODID:icalendar-ruby
CALSCALE:GREGORIAN
METHOD:PUBLISH
BEGIN:VEVENT
DTSTAMP:20260423T082417Z
UID:12-1944137@calvaryc3.com
DTSTART:20261011T143000Z
DTEND:20261011T153000Z
CLASS:PUBLIC
CREATED:20260422T205501
DESCRIPTION:C3 Cafe
LAST-MODIFIED:20260422T205501
LOCATION:Cafe
SUMMARY:C3 Cafe
URL;VALUE=URI:https://www.calvaryc3.com/events/c3-cafe/2026-10-11
ATTACH;FILENAME=coffee donut.jfif;FMTTYPE=image/jpeg:https://dq5pwpg1q8ru0.
 cloudfront.net/2022/03/02/08/43/04/11d895b6-6fd7-45c2-9a8a-d974243a9870/co
 ffee%20donut.jfif
END:VEVENT
END:VCALENDAR
