BEGIN:VCALENDAR
VERSION:2.0
PRODID:icalendar-ruby
CALSCALE:GREGORIAN
METHOD:PUBLISH
BEGIN:VEVENT
DTSTAMP:20260421T145643Z
UID:356-1679742@calvaryc3.com
DTSTART;VALUE=DATE:20260713
DTEND;VALUE=DATE:20260717
CLASS:PUBLIC
CREATED:20260309T131243
DESCRIPTION:
LAST-MODIFIED:20260309T131243
LOCATION:
SUMMARY:C3  Kidz Camp
URL;VALUE=URI:https://www.calvaryc3.com/events/c3-kidz-camp/2026-07-13
ATTACH;FILENAME=C3 Kidz Camp 2026.jpg;FMTTYPE=image/jpeg:https://dq5pwpg1q8
 ru0.cloudfront.net/2026/03/09/18/12/42/c5fcafbf-99b8-4c60-9806-f4837fba7f5
 e/C3%20Kidz%20Camp%202026.jpg
END:VEVENT
END:VCALENDAR
