BEGIN:VCALENDAR
VERSION:2.0
PRODID:icalendar-ruby
CALSCALE:GREGORIAN
METHOD:PUBLISH
BEGIN:VEVENT
DTSTAMP:20260421T170221Z
UID:348-1768667@calvaryc3.com
DTSTART;VALUE=DATE:20261114
DTEND;VALUE=DATE:20261114
CLASS:PUBLIC
CREATED:20260324T164058
DESCRIPTION:This new group will be meeting quarterly - the venue will be di
 fferent each time (i.e. restaurants\; C3 cafe\; pizza &amp\; game day @ th
 e Bakers\; etc.).  Come join the fun &amp\; fellowship!\n2026 dates:\nSat
 . Feb 21st\nSat. May 16th\nSat. August 22nd\nSat. Nov. 14th\nWe invite all
  couples to attend!\n*childcare not provided\nWant to get connected?  Ema
 il C3pastorstacy@gmail.com
LAST-MODIFIED:20260324T164058
LOCATION:
SUMMARY:C3 Life Group: Couples for Christ
URL;VALUE=URI:https://www.calvaryc3.com/events/c3-life-group-couples-for-ch
 rist--348/2026-11-14
ATTACH;FILENAME=COUPLES FOR CHRIST chatgpt.jpg;FMTTYPE=image/jpeg:https://d
 q5pwpg1q8ru0.cloudfront.net/2026/02/27/02/21/33/da29cd8c-783a-46b7-b943-b8
 440da7b87f/COUPLES%20FOR%20CHRIST%20chatgpt.jpg
END:VEVENT
END:VCALENDAR
