BEGIN:VCALENDAR
VERSION:2.0
PRODID:icalendar-ruby
CALSCALE:GREGORIAN
METHOD:PUBLISH
BEGIN:VEVENT
DTSTAMP:20260423T064000Z
UID:329-1944342@calvaryc3.com
DTSTART:20260927T153000Z
DTEND:20260927T170000Z
CLASS:PUBLIC
CREATED:20260422T205502
DESCRIPTION:Come as you are &amp\; join us for powerful\, anointed worship 
 @ 10:30am EVERY Sunday. \n\nC3 Vision: Connect. Create. Cultivate. \n\n\
 nFor more info.\, email: c3pastorluke@gmail.com \n 
LAST-MODIFIED:20260422T205502
LOCATION:Sanctuary 
SUMMARY:C3 Worship Service 
URL;VALUE=URI:https://www.calvaryc3.com/events/c3-worship-service/2026-09-2
 7
ATTACH;FILENAME=IMG_6906.jpeg;FMTTYPE=image/jpeg:https://dq5pwpg1q8ru0.clou
 dfront.net/2025/09/14/12/54/44/dd2c9fcf-c516-4ffe-80b4-d7fe69872b7c/IMG_69
 06.jpeg
ATTACH;FILENAME=20250824_104834.jpg;FMTTYPE=image/jpeg:https://dq5pwpg1q8ru
 0.cloudfront.net/2026/03/27/15/44/59/4c5026d2-5754-454a-9815-357bd91ba3a1/
 20250824_104834.jpg
ATTACH;FILENAME=20260322_111253.jpg;FMTTYPE=image/jpeg:https://dq5pwpg1q8ru
 0.cloudfront.net/2026/03/27/15/51/11/20a69b88-3eb8-41e8-b9da-2fa4756bf713/
 20260322_111253.jpg
END:VEVENT
END:VCALENDAR
