BEGIN:VCALENDAR
VERSION:2.0
PRODID:icalendar-ruby
CALSCALE:GREGORIAN
METHOD:PUBLISH
BEGIN:VEVENT
DTSTAMP:20260421T143205Z
UID:360-1913548@calvaryc3.com
DTSTART:20260518T220000Z
DTEND:20260519T010000Z
CLASS:PUBLIC
CREATED:20260417T180349
DESCRIPTION:
LAST-MODIFIED:20260417T180349
LOCATION:Festus\, MO
SUMMARY:C3 Youth Fundraiser @ Culver's
URL;VALUE=URI:https://www.calvaryc3.com/events/c3-youth-fundraiser-culvers/
 2026-05-18
END:VEVENT
END:VCALENDAR
