BEGIN:VCALENDAR
VERSION:2.0
PRODID:icalendar-ruby
CALSCALE:GREGORIAN
METHOD:PUBLISH
BEGIN:VEVENT
DTSTAMP:20260421T113429Z
UID:361-1930847@calvaryc3.com
DTSTART;VALUE=DATE:20260422
DTEND;VALUE=DATE:20260422
CLASS:PUBLIC
CREATED:20260420T160656
DESCRIPTION:We'll be gathering outside under the pavilion for a night of fa
 mily fellowship instead of a regular class inside.  If it's warm - the ki
 ds can play with water squirters.\nWe'll be serving lemonade and roasting 
 hot dogs. \nPlease bring a dish to share!  What people are bringing so f
 ar:  baked beans\; fruit\; pretzel bites\; chips &amp\; dips\; snow cones
 \; brownies. 
LAST-MODIFIED:20260420T160656
LOCATION:6:30-8:30pm  |  C3 Pavilion 
SUMMARY:Family Fellowship Night & Bonfire!
URL;VALUE=URI:https://www.calvaryc3.com/events/family-fellowship-night-bonf
 ire/2026-04-22
ATTACH;FILENAME=man-is-cooking-hot-dogs-barbecue-with-man-background_198067
 -748972.jpg;FMTTYPE=image/jpeg:https://dq5pwpg1q8ru0.cloudfront.net/2026/0
 4/20/20/04/18/e49dad15-783d-4f14-8e20-285f792cf48c/man-is-cooking-hot-dogs
 -barbecue-with-man-background_198067-748972.jpg
END:VEVENT
END:VCALENDAR
