BEGIN:VCALENDAR
VERSION:2.0
PRODID:icalendar-ruby
CALSCALE:GREGORIAN
METHOD:PUBLISH
BEGIN:VEVENT
DTSTAMP:20260423T103356Z
UID:11-1943887@calvaryc3.com
DTSTART;VALUE=DATE:20261004
DTEND;VALUE=DATE:20261004
CLASS:PUBLIC
CREATED:20260422T205501
DESCRIPTION:Prayer Connect\nConnecting to the heart of God through prayer.
  \nEvery Sunday @8:30-9:30am 
LAST-MODIFIED:20260422T205501
LOCATION:Sanctuary 
SUMMARY:Prayer Connect
URL;VALUE=URI:https://www.calvaryc3.com/events/prayer-connect/2026-10-04
ATTACH;FILENAME=132B2E28-0626-4AA7-AEFF-B1C08EBF10B3.jpeg;FMTTYPE=image/jpe
 g:https://dq5pwpg1q8ru0.cloudfront.net/2022/02/16/15/08/42/d9cb4b50-fce9-4
 592-9e11-ffd9cf24e3e6/132B2E28-0626-4AA7-AEFF-B1C08EBF10B3.jpeg
END:VEVENT
END:VCALENDAR
