BEGIN:VCALENDAR
VERSION:2.0
PRODID:icalendar-ruby
CALSCALE:GREGORIAN
METHOD:PUBLISH
BEGIN:VEVENT
DTSTAMP:20260421T230913Z
UID:10-1938290@calvaryc3.com
DTSTART:20260607T153000Z
DTEND:20260607T163000Z
CLASS:PUBLIC
CREATED:20260421T164402
DESCRIPTION:Sunday Worship
LAST-MODIFIED:20260421T164402
LOCATION:
SUMMARY:Sunday Worship
URL;VALUE=URI:https://www.calvaryc3.com/events/sunday-worship/2026-06-07
ATTACH;FILENAME=AB5B4288-FBB8-4ABA-8B58-431E4F53DD15.jpeg;FMTTYPE=image/jpe
 g:https://dq5pwpg1q8ru0.cloudfront.net/2025/08/11/01/26/32/876b3d5c-ae9a-4
 254-885b-d4f0903806e5/AB5B4288-FBB8-4ABA-8B58-431E4F53DD15.jpeg
END:VEVENT
END:VCALENDAR
